BEGIN:VCALENDAR
VERSION:2.0
PRODID:-//Morris Equestrian - ECPv6.7.0//NONSGML v1.0//EN
CALSCALE:GREGORIAN
METHOD:PUBLISH
X-WR-CALNAME:Morris Equestrian
X-ORIGINAL-URL:https://www.morrisequestrian.co.uk
X-WR-CALDESC:Events for Morris Equestrian
REFRESH-INTERVAL;VALUE=DURATION:PT1H
X-Robots-Tag:noindex
X-PUBLISHED-TTL:PT1H
BEGIN:VTIMEZONE
TZID:Europe/London
BEGIN:DAYLIGHT
TZOFFSETFROM:+0000
TZOFFSETTO:+0100
TZNAME:BST
DTSTART:20260329T010000
END:DAYLIGHT
BEGIN:STANDARD
TZOFFSETFROM:+0100
TZOFFSETTO:+0000
TZNAME:GMT
DTSTART:20261025T010000
END:STANDARD
END:VTIMEZONE
BEGIN:VEVENT
DTSTART;TZID=Europe/London:20260424T180000
DTEND;TZID=Europe/London:20260424T210000
DTSTAMP:20260424T141224
CREATED:20260414T122134Z
LAST-MODIFIED:20260414T140851Z
UID:24698-1777053600-1777064400@www.morrisequestrian.co.uk
SUMMARY:Pony Clear rounds
DESCRIPTION:booked via equilive \n£12..00 \n70cm \n80cm \n90cm \n1m
URL:https://www.morrisequestrian.co.uk/event/clear-rounds/
END:VEVENT
END:VCALENDAR