BEGIN:VCALENDAR
VERSION:2.0
PRODID:-//Morris Equestrian - ECPv6.7.0//NONSGML v1.0//EN
CALSCALE:GREGORIAN
METHOD:PUBLISH
X-WR-CALNAME:Morris Equestrian
X-ORIGINAL-URL:https://www.morrisequestrian.co.uk
X-WR-CALDESC:Events for Morris Equestrian
REFRESH-INTERVAL;VALUE=DURATION:PT1H
X-Robots-Tag:noindex
X-PUBLISHED-TTL:PT1H
BEGIN:VTIMEZONE
TZID:Europe/London
BEGIN:DAYLIGHT
TZOFFSETFROM:+0000
TZOFFSETTO:+0100
TZNAME:BST
DTSTART:20260329T010000
END:DAYLIGHT
BEGIN:STANDARD
TZOFFSETFROM:+0100
TZOFFSETTO:+0000
TZNAME:GMT
DTSTART:20261025T010000
END:STANDARD
BEGIN:DAYLIGHT
TZOFFSETFROM:+0000
TZOFFSETTO:+0100
TZNAME:BST
DTSTART:20270328T010000
END:DAYLIGHT
BEGIN:STANDARD
TZOFFSETFROM:+0100
TZOFFSETTO:+0000
TZNAME:GMT
DTSTART:20271031T010000
END:STANDARD
END:VTIMEZONE
BEGIN:VEVENT
DTSTART;VALUE=DATE:20261028
DTEND;VALUE=DATE:20261029
DTSTAMP:20260421T231518
CREATED:20260412T151612Z
LAST-MODIFIED:20260412T151612Z
UID:24679-1793145600-1793231999@www.morrisequestrian.co.uk
SUMMARY:British Dressage
DESCRIPTION:
URL:https://www.morrisequestrian.co.uk/event/british-dressage-8/
END:VEVENT
BEGIN:VEVENT
DTSTART;VALUE=DATE:20261031
DTEND;VALUE=DATE:20261101
DTSTAMP:20260421T231518
CREATED:20260412T151219Z
LAST-MODIFIED:20260412T151219Z
UID:24669-1793404800-1793491199@www.morrisequestrian.co.uk
SUMMARY:Halloween Unaffiliated Showjumping
DESCRIPTION:
URL:https://www.morrisequestrian.co.uk/event/halloween-unaffiliated-showjumping/
CATEGORIES:Show Jumping
END:VEVENT
BEGIN:VEVENT
DTSTART;VALUE=DATE:20261101
DTEND;VALUE=DATE:20261102
DTSTAMP:20260421T231518
CREATED:20260412T151717Z
LAST-MODIFIED:20260412T151717Z
UID:24682-1793491200-1793577599@www.morrisequestrian.co.uk
SUMMARY:British Riding Club
DESCRIPTION:
URL:https://www.morrisequestrian.co.uk/event/british-riding-club-2/
END:VEVENT
BEGIN:VEVENT
DTSTART;VALUE=DATE:20261104
DTEND;VALUE=DATE:20261105
DTSTAMP:20260421T231518
CREATED:20260417T102731Z
LAST-MODIFIED:20260417T102731Z
UID:24728-1793750400-1793836799@www.morrisequestrian.co.uk
SUMMARY:Jazzy Jumping
DESCRIPTION:
URL:https://www.morrisequestrian.co.uk/event/jazzy-jumping-19/
ATTACH;FMTTYPE=image/png:https://www.morrisequestrian.co.uk/wp-content/uploads/2025/11/Jazzy-Jumping-no-date.png
END:VEVENT
BEGIN:VEVENT
DTSTART;TZID=Europe/London:20261105T180000
DTEND;TZID=Europe/London:20261105T220000
DTSTAMP:20260421T231518
CREATED:20260412T152320Z
LAST-MODIFIED:20260412T152320Z
UID:24696-1793901600-1793916000@www.morrisequestrian.co.uk
SUMMARY:Daimler Academy
DESCRIPTION:
URL:https://www.morrisequestrian.co.uk/event/daimler-academy-3/
END:VEVENT
BEGIN:VEVENT
DTSTART;VALUE=DATE:20261106
DTEND;VALUE=DATE:20261109
DTSTAMP:20260421T231518
CREATED:20260412T151841Z
LAST-MODIFIED:20260412T151841Z
UID:24686-1793923200-1794182399@www.morrisequestrian.co.uk
SUMMARY:British Showjumping Juniors
DESCRIPTION:
URL:https://www.morrisequestrian.co.uk/event/british-showjumping-juniors/
END:VEVENT
BEGIN:VEVENT
DTSTART;VALUE=DATE:20261112
DTEND;VALUE=DATE:20261116
DTSTAMP:20260421T231518
CREATED:20260412T151800Z
LAST-MODIFIED:20260412T151800Z
UID:24684-1794441600-1794787199@www.morrisequestrian.co.uk
SUMMARY:British Showjumping Winter Classic
DESCRIPTION:
URL:https://www.morrisequestrian.co.uk/event/british-showjumping-winter-classic/
END:VEVENT
BEGIN:VEVENT
DTSTART;VALUE=DATE:20261121
DTEND;VALUE=DATE:20261122
DTSTAMP:20260421T231518
CREATED:20260412T152154Z
LAST-MODIFIED:20260412T152154Z
UID:24694-1795219200-1795305599@www.morrisequestrian.co.uk
SUMMARY:British Dressage
DESCRIPTION:
URL:https://www.morrisequestrian.co.uk/event/british-dressage-9/
END:VEVENT
BEGIN:VEVENT
DTSTART;VALUE=DATE:20261122
DTEND;VALUE=DATE:20261123
DTSTAMP:20260421T231518
CREATED:20260412T151925Z
LAST-MODIFIED:20260412T151925Z
UID:24688-1795305600-1795391999@www.morrisequestrian.co.uk
SUMMARY:Unaffiliated showjumping
DESCRIPTION:
URL:https://www.morrisequestrian.co.uk/event/unaffiliated-showjumping/
END:VEVENT
BEGIN:VEVENT
DTSTART;VALUE=DATE:20261127
DTEND;VALUE=DATE:20261130
DTSTAMP:20260421T231518
CREATED:20260412T152100Z
LAST-MODIFIED:20260412T152100Z
UID:24692-1795737600-1795996799@www.morrisequestrian.co.uk
SUMMARY:British Showjumping Cat 2
DESCRIPTION:
URL:https://www.morrisequestrian.co.uk/event/british-showjumping-cat-2-3/
END:VEVENT
BEGIN:VEVENT
DTSTART;TZID=Europe/London:20261127T050000
DTEND;TZID=Europe/London:20261127T230000
DTSTAMP:20260421T231518
CREATED:20260412T152024Z
LAST-MODIFIED:20260412T152024Z
UID:24690-1795755600-1795820400@www.morrisequestrian.co.uk
SUMMARY:Gala Night
DESCRIPTION:
URL:https://www.morrisequestrian.co.uk/event/gala-night/
END:VEVENT
BEGIN:VEVENT
DTSTART;VALUE=DATE:20270403
DTEND;VALUE=DATE:20270406
DTSTAMP:20260421T231518
CREATED:20260412T150513Z
LAST-MODIFIED:20260412T150513Z
UID:24657-1806710400-1806969599@www.morrisequestrian.co.uk
SUMMARY:Barrier Health Spring Festival
DESCRIPTION:
URL:https://www.morrisequestrian.co.uk/event/barrier-health-spring-festival/
END:VEVENT
BEGIN:VEVENT
DTSTART;VALUE=DATE:20270406
DTEND;VALUE=DATE:20270410
DTSTAMP:20260421T231518
CREATED:20260412T150600Z
LAST-MODIFIED:20260412T150600Z
UID:24659-1806969600-1807315199@www.morrisequestrian.co.uk
SUMMARY:British showjumping Camp senior and junior
DESCRIPTION:
URL:https://www.morrisequestrian.co.uk/event/british-showjumping-camp-senior-and-junior/
END:VEVENT
BEGIN:VEVENT
DTSTART;VALUE=DATE:20270409
DTEND;VALUE=DATE:20270412
DTSTAMP:20260421T231518
CREATED:20260412T150755Z
LAST-MODIFIED:20260412T150755Z
UID:24661-1807228800-1807487999@www.morrisequestrian.co.uk
SUMMARY:Easter Bunny Unafiliated charity weekend with Bareback Challenge
DESCRIPTION:
URL:https://www.morrisequestrian.co.uk/event/easter-bunny-unafiliated-charity-weekend-with-bareback-challenge/
END:VEVENT
END:VCALENDAR