BEGIN:VCALENDAR
VERSION:2.0
PRODID:-//Morris Equestrian - ECPv6.7.0//NONSGML v1.0//EN
CALSCALE:GREGORIAN
METHOD:PUBLISH
X-WR-CALNAME:Morris Equestrian
X-ORIGINAL-URL:https://www.morrisequestrian.co.uk
X-WR-CALDESC:Events for Morris Equestrian
REFRESH-INTERVAL;VALUE=DURATION:PT1H
X-Robots-Tag:noindex
X-PUBLISHED-TTL:PT1H
BEGIN:VTIMEZONE
TZID:Europe/London
BEGIN:DAYLIGHT
TZOFFSETFROM:+0000
TZOFFSETTO:+0100
TZNAME:BST
DTSTART:20260329T010000
END:DAYLIGHT
BEGIN:STANDARD
TZOFFSETFROM:+0100
TZOFFSETTO:+0000
TZNAME:GMT
DTSTART:20261025T010000
END:STANDARD
END:VTIMEZONE
BEGIN:VEVENT
DTSTART;VALUE=DATE:20260323
DTEND;VALUE=DATE:20260324
DTSTAMP:20260423T010858
CREATED:20260313T114100Z
LAST-MODIFIED:20260313T114414Z
UID:24416-1774224000-1774310399@www.morrisequestrian.co.uk
SUMMARY:CLOSED TO THE GENERAL PUBLIC
DESCRIPTION:🚫 Closed to the General Public \nPlease note that our Equestrian Centre is closed on Mondays.\nWe appreciate your understanding and look forward to welcoming you on other days of the week. \nThank you for your cooperation 🐎
URL:https://www.morrisequestrian.co.uk/event/closed-to-the-general-public-2/
ATTACH;FMTTYPE=image/jpeg:https://www.morrisequestrian.co.uk/wp-content/uploads/2023/09/pole-clinic.jpg
END:VEVENT
BEGIN:VEVENT
DTSTART;VALUE=DATE:20260325
DTEND;VALUE=DATE:20260326
DTSTAMP:20260423T010858
CREATED:20260313T112611Z
LAST-MODIFIED:20260313T112626Z
UID:24407-1774396800-1774483199@www.morrisequestrian.co.uk
SUMMARY:BAREBACK LESSON
DESCRIPTION:Looking to build balance\, confidence\, and a stronger connection with your horse? Our bareback riding lesson are the perfect way to prepare for the upcoming Easter Bareback Competition.This session focus on:• Improving core balance and seat stability• Developing better communication with your horse• Building confidence without the saddle• Fine-tuning control and postureSuitable for riders who are comfortable at walk\, trot\, and canter.Limited spots available message to book your lesson and get competition ready this Easter!book on equilive!
URL:https://www.morrisequestrian.co.uk/event/bareback-lesson/
ATTACH;FMTTYPE=image/png:https://www.morrisequestrian.co.uk/wp-content/uploads/2026/03/Bareback-horse-riding-lessons-poster.png
END:VEVENT
BEGIN:VEVENT
DTSTART;VALUE=DATE:20260325
DTEND;VALUE=DATE:20260326
DTSTAMP:20260423T010858
CREATED:20260313T113113Z
LAST-MODIFIED:20260313T113113Z
UID:24410-1774396800-1774483199@www.morrisequestrian.co.uk
SUMMARY:DAIMLER PONY CLUB
DESCRIPTION:The Pony Club is the world’s largest youth equestrian organization\, founded in 1929 and aimed at people under 25 to promote horsemanship\, riding\, and animal care. It provides training\, education\, and competitions (such as dressage\, showjumping\, and polo) through local\, volunteer-led branches and centres\, often encouraging teamwork and confidence
URL:https://www.morrisequestrian.co.uk/event/daimler-pony-club/
ATTACH;FMTTYPE=image/jpeg:https://www.morrisequestrian.co.uk/wp-content/uploads/2025/10/FINAL-FINAL-LOGOs-25-years-e1710883568886.jpg
END:VEVENT
BEGIN:VEVENT
DTSTART;VALUE=DATE:20260326
DTEND;VALUE=DATE:20260327
DTSTAMP:20260423T010858
CREATED:20251126T141016Z
LAST-MODIFIED:20260312T154612Z
UID:24289-1774483200-1774569599@www.morrisequestrian.co.uk
SUMMARY:🐴✨ Poles & Grids with Chris ✨🐴
DESCRIPTION:📍 The Daimler Foundation \nPerfect for riders looking to:\n✅ Improve rhythm & balance\n✅ Build confidence\n✅ Have fun in a supportive group \n➡️ Small groups (max 4) \n➡️ Private lessons also available \n📲 Book now on Hopoti — spaces are limited
URL:https://www.morrisequestrian.co.uk/event/%f0%9f%90%b4%e2%9c%a8-poles-grids-with-chris-%e2%9c%a8%f0%9f%90%b4-4/
ATTACH;FMTTYPE=image/png:https://www.morrisequestrian.co.uk/wp-content/uploads/2025/11/Poles-and-Grids-With-Chris-1.png
END:VEVENT
BEGIN:VEVENT
DTSTART;VALUE=DATE:20260327
DTEND;VALUE=DATE:20260328
DTSTAMP:20260423T010858
CREATED:20260313T113339Z
LAST-MODIFIED:20260313T113339Z
UID:24412-1774569600-1774655999@www.morrisequestrian.co.uk
SUMMARY:Dressage Area Hire
DESCRIPTION:Train in comfort in our quality dressage arena\, designed to give horse and rider the ideal surface for flatwork and schooling. Whether you’re preparing for competition or enjoying a relaxed schooling session\, our arena offers the space and footing you need for productive rides.
URL:https://www.morrisequestrian.co.uk/event/dressage-area-hire/
ATTACH;FMTTYPE=image/jpeg:https://www.morrisequestrian.co.uk/wp-content/uploads/2025/10/572171792_1247907980698062_6616038341243287005_n.jpg
END:VEVENT
BEGIN:VEVENT
DTSTART;VALUE=DATE:20260328
DTEND;VALUE=DATE:20260329
DTSTAMP:20260423T010858
CREATED:20260312T154814Z
LAST-MODIFIED:20260312T154814Z
UID:24392-1774656000-1774742399@www.morrisequestrian.co.uk
SUMMARY:Test Riding with Harry Payne & Liz Love
DESCRIPTION:Test Riding with Harry Payne & Liz Love \n\n\nWe’re excited to offer a fantastic opportunity to develop your competition skills with British Dressage Judge/Coach Harry Payne and Liz Love on 28 March.\n\n\nBuild confidence in the arena and refine your warm-up routine and test-riding skills with expert guidance. Riders can choose to ride:\n• Any BD test\n• Pony Club Spring Festival tests\n• BD Youth Rider Skills tests\n• BD Squad Assessment\n\n\nYou will begin by warming up with the coach in either the 20×40 or 20×60 arena in our main indoor school. Once you’ve perfected your warm-up routine\, you’ll ride through your chosen test and receive:\n Your completed test sheet\n Constructive feedback from the judge\n\n\nThis is the perfect preparation for upcoming competitions\, including the Pony Club Spring Festival.\n\n\nBook: https://horsemonkey.com/…/4640+-26.+BD+Scotland+Youth…
URL:https://www.morrisequestrian.co.uk/event/test-riding-with-harry-payne-liz-love/
ATTACH;FMTTYPE=image/png:https://www.morrisequestrian.co.uk/wp-content/uploads/2026/03/Tier-3-Example-1-28.png
END:VEVENT
BEGIN:VEVENT
DTSTART;VALUE=DATE:20260329
DTEND;VALUE=DATE:20260330
DTSTAMP:20260423T010858
CREATED:20260204T133301Z
LAST-MODIFIED:20260225T123301Z
UID:24358-1774742400-1774828799@www.morrisequestrian.co.uk
SUMMARY:Dressage P - PSG+FS youth rider skills test and Pony Club tests And TQ
DESCRIPTION:Join us for an exciting celebration of dressage\, where horse and rider come together in a true display of partnership and dedication. Each combination takes to the arena to perform carefully crafted tests that reflect months\, sometimes years of training and commitment. Whether you are a competitor\, supporter\, or spectator\, this event promises an inspiring atmosphere and a chance to witness the beauty of equestrian sport at its finest. \nBook Your Place on Horse Monkey!
URL:https://www.morrisequestrian.co.uk/event/dressage-2/
ATTACH;FMTTYPE=image/jpeg:https://www.morrisequestrian.co.uk/wp-content/uploads/2025/11/586338832_1269001821922011_6048798288476466580_n.jpg
END:VEVENT
BEGIN:VEVENT
DTSTART;VALUE=DATE:20260330
DTEND;VALUE=DATE:20260331
DTSTAMP:20260423T010858
CREATED:20260313T114521Z
LAST-MODIFIED:20260313T114543Z
UID:24417-1774828800-1774915199@www.morrisequestrian.co.uk
SUMMARY:CLOSED TO THE GENERAL PUBLIC
DESCRIPTION:🚫 Closed to the General Public \nPlease note that our Equestrian Centre is closed on Mondays.\nWe look forward to welcoming you on other days of the week. \n 
URL:https://www.morrisequestrian.co.uk/event/closed-to-the-general-public-3/
ATTACH;FMTTYPE=image/jpeg:https://www.morrisequestrian.co.uk/wp-content/uploads/2023/09/pole-clinic.jpg
END:VEVENT
BEGIN:VEVENT
DTSTART;VALUE=DATE:20260331
DTEND;VALUE=DATE:20260401
DTSTAMP:20260423T010858
CREATED:20260312T155033Z
LAST-MODIFIED:20260313T114818Z
UID:24395-1774915200-1775001599@www.morrisequestrian.co.uk
SUMMARY:DAIMLER ACADEMY – ARENA EVENTING CLINIC
DESCRIPTION:DAIMLER ACADEMY – ARENA EVENTING CLINIC \n\n\nJoin us at The Daimler Academy on Tuesday 31st for an exciting Arena Eventing clinic with Olivia Wilmot Eventer \n\n\nWe will be using a full arena eventing course\, including a mixture of show jumps and XC style fences\, giving riders the chance to ride a flowing course and build confidence over a variety of obstacles.\n\n\nThis clinic is a great opportunity to prepare for the Pony Club Spring Festival\, helping riders practice rhythm\, balance and course riding in a safe and supportive environment.\n\n\n Arena Eventing with Olivia Wilmot Eventer\n Tuesday 31st\n Full Arena Eventing Course\n\n\n Perfect preparation for Pony Club Spring Festival\n Great for building confidence and course riding\n Groups matched to ability\n\n\n Bookings via Hopoti\n\n\n Spaces are limited – book early!
URL:https://www.morrisequestrian.co.uk/event/daimler-academy-arena-eventing-clinic/
ATTACH;FMTTYPE=image/png:https://www.morrisequestrian.co.uk/wp-content/uploads/2026/03/ACADEMY.png
END:VEVENT
BEGIN:VEVENT
DTSTART;VALUE=DATE:20260401
DTEND;VALUE=DATE:20260402
DTSTAMP:20260423T010858
CREATED:20260204T134309Z
LAST-MODIFIED:20260225T150235Z
UID:24365-1775001600-1775087999@www.morrisequestrian.co.uk
SUMMARY:Jazzy Jumping
DESCRIPTION:Jazzy Jumping \n Cross Poles 40cm 50cm 60cm 70cm 80cm 90cm 1m Rosettes to 4th Points 1–6 Great atmosphere in the Daimler Clubhouse Enter now on EquiLive The Daimler Foundation
URL:https://www.morrisequestrian.co.uk/event/jazzy-jumping-9/
ATTACH;FMTTYPE=image/png:https://www.morrisequestrian.co.uk/wp-content/uploads/2026/02/Jazzy-Jumping-no-date-2.png
END:VEVENT
BEGIN:VEVENT
DTSTART;VALUE=DATE:20260402
DTEND;VALUE=DATE:20260403
DTSTAMP:20260423T010858
CREATED:20260313T115016Z
LAST-MODIFIED:20260313T115016Z
UID:24423-1775088000-1775174399@www.morrisequestrian.co.uk
SUMMARY:DAIMLER ACADEMY – THURSDAY 2ND APRIL
DESCRIPTION:DAIMLER ACADEMY – THURSDAY 2ND APRIL \n\n\nJoin us at The Daimler Academy for a fantastic evening of training with Scott Scott Mclellan Dressageellan and Chris McGiff freelance coaching is McGiff \n\n\nThis session offers riders the opportunity to work on flatwork and showjumping\, helping to build stronger foundations and confidence over fences.\n\n\n Scott Scott Mclellan Dressagen – Flatwork\n• 30 minute semi-private sessions\n• Improve balance\, rhythm\, contact and overall way of going\n\n\n Chris McGiff freelance coaching  McGiff – Showjumping\n• 1 hour group sessions\n• Maximum 4 riders per group\n• Focus on technique\, confidence and course riding\n\n\n Thursday 2nd April\n The Daimler Academy\n\n\n All levels welcome\n Groups matched to ability\n\n\n Book via Hopoti\n\n\n Spaces are limited – book early!
URL:https://www.morrisequestrian.co.uk/event/daimler-academy-thursday-2nd-april/
END:VEVENT
BEGIN:VEVENT
DTSTART;VALUE=DATE:20260404
DTEND;VALUE=DATE:20260407
DTSTAMP:20260423T010858
CREATED:20260204T133940Z
LAST-MODIFIED:20260204T133940Z
UID:24362-1775260800-1775519999@www.morrisequestrian.co.uk
SUMMARY:BARRIER ANIMAL HEALTH SPRING FESTIVAL CHAMPIONSHIP 2026
DESCRIPTION:The Barrier Animal Health Spring Festival is a competition series for Dressage\, Show Jumping and Arena Eventing. Riders compete to qualify for the Final. \nThere are levels for every competitive member depending on eligibility: \n\nArena Eventing – 70cm\, 80cm\, 90cm\, 100cm and 110cm\nDressage – Preliminary PC70\, Grassroots PC80\, Novice\, Intermediate and Open\nShow Jumping – PC70\, 80cm\, 90cm\, 100cm and 110cm\n\nAll members will need to qualify through preliminary rounds to get to the final. Details of qualifier competitions are available below. \nDate of Final: 4th – 6th April 2026 @ Morris Equestrian
URL:https://www.morrisequestrian.co.uk/event/barrier-animal-health-spring-festival-championship-2026/
ATTACH;FMTTYPE=image/png:https://www.morrisequestrian.co.uk/wp-content/uploads/2026/02/2026-Spring-Festival-Logo.png
END:VEVENT
BEGIN:VEVENT
DTSTART;VALUE=DATE:20260407
DTEND;VALUE=DATE:20260411
DTSTAMP:20260423T010858
CREATED:20260313T125740Z
LAST-MODIFIED:20260313T145439Z
UID:24439-1775520000-1775865599@www.morrisequestrian.co.uk
SUMMARY:SCOTTISH ACADEMY HORSE CAMP 2026
DESCRIPTION:Bookings are now OPEN for the Scottish Academy Horse Camp 2026 being held at Morris EC on Wednesday 8th – Friday 10th April – cost: £200 per rider. \nHorse Camp will run alongside Pony Camp\, Horses grouped separately. \nTO BOOK: Please email Lucy Moss – Lucy.Moss@britishshowjumping.co.uk. \nPlease include: \n\nwhich Academy you attend\,\nrider name\,\nfull horse name and height.\n\n  \nYour Academy Training Coordinator will then be contacted to confirm attendance\, once complete the link to book in on Horsemonkey will be sent to you. Eligibility to attend: \n– Camp – minimum 2 x Academy session attended \n– Stoneleigh Final (21yrs & under) – minimum 3 x Academy sessions attended. \nAll questions and T&C’s are on Horsemonkey.  Deposit payment required to secure booking. \nWe will be running two qualification Academy Shows at Morris EC for the final at Stoneleigh in August as below: \n\nSaturday 28th February\nFriday 10th April – 3rd day of camp.
URL:https://www.morrisequestrian.co.uk/event/scottish-academy-horse-camp-2026/
ATTACH;FMTTYPE=image/jpeg:https://www.morrisequestrian.co.uk/wp-content/uploads/2026/03/Horse-Bookings-Open.jpg
END:VEVENT
BEGIN:VEVENT
DTSTART;VALUE=DATE:20260410
DTEND;VALUE=DATE:20260413
DTSTAMP:20260423T010858
CREATED:20260312T155413Z
LAST-MODIFIED:20260312T155436Z
UID:24398-1775779200-1776038399@www.morrisequestrian.co.uk
SUMMARY: EASTER UNAFILLATED SHOW IS COMING! WITH BAREBACK CHALLENGE!! 10th-12th April
DESCRIPTION:Join us for a fun-filled Easter-themed show with something for everyone – ponies\, horses\, riders\, friends\, and families! Show Jumping ClassesFrom Cross Poles all the way up to 1m\, with cute Easter-themed class names and plenty of chances to get involved. Chase Me Charlie!Think you can keep up as the jumps get bigger? Come and give it a go! Easter Egg DashFast\, fun\, and full of Easter spirit lots of sweets to find. Will you find the golden egg? – don’t miss it! Bareback Challenge – CASH PRIZE!Test your balance\, bravery\, and bragging rights in this crowd-favourite class! Easter-Themed ActivitiesPerfect for kids and spectators – come dressed up\, get involved\, and soak up the Easter vibes. Stabling Available• £30 for the duration of the event Rosettes\, prizes\, laughter\, and lots of chocolatey energy guaranteed!BOOK NOW ON EQUILIVE.
URL:https://www.morrisequestrian.co.uk/event/easter-unafillated-show-is-coming-with-bareback-challenge-10th-12th-april/
ATTACH;FMTTYPE=image/jpeg:https://www.morrisequestrian.co.uk/wp-content/uploads/2026/03/636929902_1337134058442120_1998224907082250492_n.jpg
END:VEVENT
BEGIN:VEVENT
DTSTART;TZID=Europe/London:20260411T080000
DTEND;TZID=Europe/London:20260411T170000
DTSTAMP:20260423T010858
CREATED:20260411T164236Z
LAST-MODIFIED:20260411T164236Z
UID:24508-1775894400-1775926800@www.morrisequestrian.co.uk
SUMMARY:Grids with Chris
DESCRIPTION:Book Via hoptoi
URL:https://www.morrisequestrian.co.uk/event/grids-with-chris/
END:VEVENT
BEGIN:VEVENT
DTSTART;VALUE=DATE:20260412
DTEND;VALUE=DATE:20260413
DTSTAMP:20260423T010858
CREATED:20260412T124151Z
LAST-MODIFIED:20260412T124151Z
UID:24575-1775952000-1776038399@www.morrisequestrian.co.uk
SUMMARY:Air Parks Summer Series Showjumping
DESCRIPTION:
URL:https://www.morrisequestrian.co.uk/event/air-parks-summer-series-showjumping/
CATEGORIES:Unaffiliated
END:VEVENT
BEGIN:VEVENT
DTSTART;VALUE=DATE:20260414
DTEND;VALUE=DATE:20260415
DTSTAMP:20260423T010858
CREATED:20260411T100613Z
LAST-MODIFIED:20260411T100613Z
UID:24479-1776124800-1776211199@www.morrisequestrian.co.uk
SUMMARY:Dressage long Arena hire
DESCRIPTION:
URL:https://www.morrisequestrian.co.uk/event/dressage-long-arena-hire/
ATTACH;FMTTYPE=image/jpeg:https://www.morrisequestrian.co.uk/wp-content/uploads/2025/10/572171792_1247907980698062_6616038341243287005_n.jpg
END:VEVENT
BEGIN:VEVENT
DTSTART;VALUE=DATE:20260415
DTEND;VALUE=DATE:20260416
DTSTAMP:20260423T010858
CREATED:20260313T115427Z
LAST-MODIFIED:20260313T115427Z
UID:24428-1776211200-1776297599@www.morrisequestrian.co.uk
SUMMARY:Jazzy Jumping (Outside)
DESCRIPTION:Jazzy Jumping \n Cross Poles 40cm 50cm 60cm 70cm 80cm 90cm 1m Rosettes to 4th Points 1–6 Great atmosphere in the Daimler Clubhouse Enter now on EquiLive The Daimler Foundation
URL:https://www.morrisequestrian.co.uk/event/jazzy-jumping-outside/
ATTACH;FMTTYPE=image/png:https://www.morrisequestrian.co.uk/wp-content/uploads/2026/02/Jazzy-Jumping-no-date-2.png
END:VEVENT
BEGIN:VEVENT
DTSTART;TZID=Europe/London:20260415T180000
DTEND;TZID=Europe/London:20260415T220000
DTSTAMP:20260423T010858
CREATED:20260327T164649Z
LAST-MODIFIED:20260327T164649Z
UID:24469-1776276000-1776290400@www.morrisequestrian.co.uk
SUMMARY:Jazzy Jumping
DESCRIPTION:start time 6pm\ncross poles to 1m\nfinish time 10pm\ncost £12 late fee £2 per entry
URL:https://www.morrisequestrian.co.uk/event/jazzy-jumping-3/
CATEGORIES:Unaffiliated
END:VEVENT
BEGIN:VEVENT
DTSTART;VALUE=DATE:20260417
DTEND;VALUE=DATE:20260420
DTSTAMP:20260423T010858
CREATED:20260312T160108Z
LAST-MODIFIED:20260312T160159Z
UID:24401-1776384000-1776643199@www.morrisequestrian.co.uk
SUMMARY:British Equestrian Vaulting Championships
DESCRIPTION:Vaulting can best be described as ‘gymnastics on a moving horse’. The horse is controlled by a lunger and moves in a 15-metre circle. Most exercises are performed at canter\, although practising difficult manoeuvres and some fun classes are done at walk \nThe horse wears a bridle\, with the lunge line usually attached direct to the inside bit ring\, and a specially designed roller with two large handles either side of the withers. The roller is used to keep a large back pad in position and the handles enable the vaulters to mount and carry out various exercises on the horse with a great feeling of security. \nWith a qualified teacher and lunger\, vaulting helps build up balance and confidence on the horse\, as well as general athletic ability. You don’t need to be able to ride to vault\, but vaulting can greatly improve your riding skills. Vaulting is an all-year-round sport\, an indoor or outdoor arena is used for working on the horse\, along side the barrel or ‘practice horse’. \nBeing part of a vaulting group is a lot of fun. With the use of music vaulters can work as a team\, but there is also the opportunity for vaulters to perform individually as well as pairs or trios. The competition season typically runs from March to October.
URL:https://www.morrisequestrian.co.uk/event/british-equestrian-vaulting-championships/
ATTACH;FMTTYPE=image/jpeg:https://www.morrisequestrian.co.uk/wp-content/uploads/2026/03/photo-2024-03-08-10-44-19-crop-1711311426-300@2x.jpg
END:VEVENT
BEGIN:VEVENT
DTSTART;VALUE=DATE:20260421
DTEND;VALUE=DATE:20260422
DTSTAMP:20260423T010858
CREATED:20260313T115705Z
LAST-MODIFIED:20260313T115705Z
UID:24431-1776729600-1776815999@www.morrisequestrian.co.uk
SUMMARY:Long Arena Hire
DESCRIPTION:
URL:https://www.morrisequestrian.co.uk/event/long-arena-hire/
ATTACH;FMTTYPE=image/jpeg:https://www.morrisequestrian.co.uk/wp-content/uploads/2025/10/572171792_1247907980698062_6616038341243287005_n.jpg
END:VEVENT
BEGIN:VEVENT
DTSTART;VALUE=DATE:20260422
DTEND;VALUE=DATE:20260423
DTSTAMP:20260423T010858
CREATED:20260313T123335Z
LAST-MODIFIED:20260313T123335Z
UID:24433-1776816000-1776902399@www.morrisequestrian.co.uk
SUMMARY:Morris Equestrian Centre (P-GP)+FS+ Youth Rider Skills Tests
DESCRIPTION:
URL:https://www.morrisequestrian.co.uk/event/morris-equestrian-centre-p-gpfs-youth-rider-skills-tests/
ATTACH;FMTTYPE=image/jpeg:https://www.morrisequestrian.co.uk/wp-content/uploads/2025/10/getlstd-property-photo.jpg
END:VEVENT
BEGIN:VEVENT
DTSTART;VALUE=DATE:20260422
DTEND;VALUE=DATE:20260423
DTSTAMP:20260423T010858
CREATED:20260327T165214Z
LAST-MODIFIED:20260327T165214Z
UID:24472-1776816000-1776902399@www.morrisequestrian.co.uk
SUMMARY:British Dressage
DESCRIPTION:Start time 9am onwards \nBook via Horsemonkey \n  \n  \n  \n 
URL:https://www.morrisequestrian.co.uk/event/british-dressage/
END:VEVENT
BEGIN:VEVENT
DTSTART;TZID=Europe/London:20260422T180000
DTEND;TZID=Europe/London:20260422T200000
DTSTAMP:20260423T010858
CREATED:20260414T133942Z
LAST-MODIFIED:20260414T134738Z
UID:24719-1776880800-1776888000@www.morrisequestrian.co.uk
SUMMARY:Pony Clear rounds
DESCRIPTION:Book on equilive
URL:https://www.morrisequestrian.co.uk/event/pony-clear-rounds-2/
END:VEVENT
BEGIN:VEVENT
DTSTART;VALUE=DATE:20260423
DTEND;VALUE=DATE:20260424
DTSTAMP:20260423T010858
CREATED:20260313T123442Z
LAST-MODIFIED:20260313T123442Z
UID:24391-1776902400-1776988799@www.morrisequestrian.co.uk
SUMMARY:🐴✨ Poles & Grids with Chris ✨🐴
DESCRIPTION:📍 The Daimler Foundation \nPerfect for riders looking to:\n✅ Improve rhythm & balance\n✅ Build confidence\n✅ Have fun in a supportive group \n➡️ Small groups (max 4) \n➡️ Private lessons also available \n📲 Book now on Hopoti — spaces are limited
URL:https://www.morrisequestrian.co.uk/event/%f0%9f%90%b4%e2%9c%a8-poles-grids-with-chris-%e2%9c%a8%f0%9f%90%b4/
ATTACH;FMTTYPE=image/png:https://www.morrisequestrian.co.uk/wp-content/uploads/2025/11/Poles-and-Grids-With-Chris-1.png
END:VEVENT
BEGIN:VEVENT
DTSTART;TZID=Europe/London:20260424T180000
DTEND;TZID=Europe/London:20260424T210000
DTSTAMP:20260423T010858
CREATED:20260414T122134Z
LAST-MODIFIED:20260414T140851Z
UID:24698-1777053600-1777064400@www.morrisequestrian.co.uk
SUMMARY:Pony Clear rounds
DESCRIPTION:booked via equilive \n£12..00 \n70cm \n80cm \n90cm \n1m
URL:https://www.morrisequestrian.co.uk/event/clear-rounds/
END:VEVENT
BEGIN:VEVENT
DTSTART;VALUE=DATE:20260425
DTEND;VALUE=DATE:20260427
DTSTAMP:20260423T010858
CREATED:20260313T145830Z
LAST-MODIFIED:20260313T145830Z
UID:24443-1777075200-1777247999@www.morrisequestrian.co.uk
SUMMARY:Junior and Club
DESCRIPTION: Junior & Club Show Jumping Get ready for an exciting day of jumps\, speed\, and skill!Join us for the Junior & Club Show Jumping Competition a showcase of talent and teamwork you won’t want to miss.
URL:https://www.morrisequestrian.co.uk/event/junior-and-club/
ATTACH;FMTTYPE=image/png:https://www.morrisequestrian.co.uk/wp-content/uploads/2025/07/Junior-British-Showjumping-3.png
END:VEVENT
BEGIN:VEVENT
DTSTART;TZID=Europe/London:20260428T100000
DTEND;TZID=Europe/London:20260428T100000
DTSTAMP:20260423T010858
CREATED:20260411T164522Z
LAST-MODIFIED:20260414T125325Z
UID:24511-1777370400-1777370400@www.morrisequestrian.co.uk
SUMMARY:Morning Arena hire showjumping 10am to 1pm
DESCRIPTION:book via hopoti \n£40 per hour \nno teaching \nMax 2 horses per slot
URL:https://www.morrisequestrian.co.uk/event/grids-ands-poles-with-chris/
END:VEVENT
BEGIN:VEVENT
DTSTART;TZID=Europe/London:20260428T160000
DTEND;TZID=Europe/London:20260428T210000
DTSTAMP:20260423T010858
CREATED:20260414T125445Z
LAST-MODIFIED:20260414T131506Z
UID:24707-1777392000-1777410000@www.morrisequestrian.co.uk
SUMMARY:Evening with Calum Pole Clinic 4pm onwards
DESCRIPTION:Booked via hoptoi \nGroups of 4 \nsession is 1 hour \nLocation Main Arena
URL:https://www.morrisequestrian.co.uk/event/evening-with-calum-pole-clinic-4pm-onwards/
END:VEVENT
BEGIN:VEVENT
DTSTART;VALUE=DATE:20260429
DTEND;VALUE=DATE:20260430
DTSTAMP:20260423T010858
CREATED:20260312T160449Z
LAST-MODIFIED:20260312T160449Z
UID:24404-1777420800-1777507199@www.morrisequestrian.co.uk
SUMMARY:Jazzy Jumping
DESCRIPTION:Jazzy Jumping \n Cross Poles 40cm 50cm 60cm 70cm 80cm 90cm 1m Rosettes to 4th Points 1–6 Great atmosphere in the Daimler Clubhouse Enter now on EquiLive The Daimler Foundation
URL:https://www.morrisequestrian.co.uk/event/jazzy-jumping/
ATTACH;FMTTYPE=image/png:https://www.morrisequestrian.co.uk/wp-content/uploads/2026/02/Jazzy-Jumping-no-date-2.png
END:VEVENT
END:VCALENDAR