BEGIN:VCALENDAR
VERSION:2.0
PRODID:-//Morris Equestrian - ECPv6.7.0//NONSGML v1.0//EN
CALSCALE:GREGORIAN
METHOD:PUBLISH
X-WR-CALNAME:Morris Equestrian
X-ORIGINAL-URL:https://www.morrisequestrian.co.uk
X-WR-CALDESC:Events for Morris Equestrian
REFRESH-INTERVAL;VALUE=DURATION:PT1H
X-Robots-Tag:noindex
X-PUBLISHED-TTL:PT1H
BEGIN:VTIMEZONE
TZID:Europe/London
BEGIN:DAYLIGHT
TZOFFSETFROM:+0000
TZOFFSETTO:+0100
TZNAME:BST
DTSTART:20260329T010000
END:DAYLIGHT
BEGIN:STANDARD
TZOFFSETFROM:+0100
TZOFFSETTO:+0000
TZNAME:GMT
DTSTART:20261025T010000
END:STANDARD
END:VTIMEZONE
BEGIN:VEVENT
DTSTART;VALUE=DATE:20260510
DTEND;VALUE=DATE:20260511
DTSTAMP:20260423T070052
CREATED:20260325T153117Z
LAST-MODIFIED:20260325T153117Z
UID:24462-1778371200-1778457599@www.morrisequestrian.co.uk
SUMMARY:Senior and Club
DESCRIPTION:
URL:https://www.morrisequestrian.co.uk/event/senior-and-club/
ATTACH;FMTTYPE=image/jpeg:https://www.morrisequestrian.co.uk/wp-content/uploads/2025/10/502451646_1120531890102339_8085586464434451774_n.jpg
END:VEVENT
BEGIN:VEVENT
DTSTART;TZID=Europe/London:20260512T180000
DTEND;TZID=Europe/London:20260512T210000
DTSTAMP:20260423T070052
CREATED:20260411T162123Z
LAST-MODIFIED:20260411T162123Z
UID:24483-1778608800-1778619600@www.morrisequestrian.co.uk
SUMMARY:British Showjumping Academy Private Hire
DESCRIPTION:Booked via Horse monkey \nPrivate hire for more information please contact Lucy Moss at British showjumping
URL:https://www.morrisequestrian.co.uk/event/british-showjumping-academy-private-hire/
END:VEVENT
BEGIN:VEVENT
DTSTART;VALUE=DATE:20260513
DTEND;VALUE=DATE:20260514
DTSTAMP:20260423T070052
CREATED:20260325T152722Z
LAST-MODIFIED:20260325T153702Z
UID:24460-1778630400-1778716799@www.morrisequestrian.co.uk
SUMMARY:Jazzy Jumping
DESCRIPTION:Jazzy JumpingBook on Equilive !! Cross Poles 40cm 50cm 60cm 70cm 80cm 90cm 1m
URL:https://www.morrisequestrian.co.uk/event/jazzy-jumping-2/
ATTACH;FMTTYPE=image/png:https://www.morrisequestrian.co.uk/wp-content/uploads/2026/02/Jazzy-Jumping-no-date-2.png
END:VEVENT
BEGIN:VEVENT
DTSTART;TZID=Europe/London:20260514T100000
DTEND;TZID=Europe/London:20260514T173000
DTSTAMP:20260423T070052
CREATED:20260411T162420Z
LAST-MODIFIED:20260411T162420Z
UID:24486-1778752800-1778779800@www.morrisequestrian.co.uk
SUMMARY:Morning Showjumping arena Hire
DESCRIPTION:  \n10am to 2pm \nFull course of fences \n£40 per 30 min \nBook Via the online system Hopoti \nMax 2 horses non Teaching allowed \n  \n 
URL:https://www.morrisequestrian.co.uk/event/morning-showjumping-arena-hire/
CATEGORIES:Arena Hires
END:VEVENT
BEGIN:VEVENT
DTSTART;TZID=Europe/London:20260514T180000
DTEND;TZID=Europe/London:20260514T203000
DTSTAMP:20260423T070052
CREATED:20260411T163110Z
LAST-MODIFIED:20260411T163110Z
UID:24493-1778781600-1778790600@www.morrisequestrian.co.uk
SUMMARY:Strathblane & District Pony Club Rally
DESCRIPTION:Private Hire
URL:https://www.morrisequestrian.co.uk/event/strathblane-district-pony-club-rally/
CATEGORIES:Private Hire
END:VEVENT
BEGIN:VEVENT
DTSTART;TZID=Europe/London:20260515T180000
DTEND;TZID=Europe/London:20260515T210000
DTSTAMP:20260423T070052
CREATED:20260414T133829Z
LAST-MODIFIED:20260414T133829Z
UID:24717-1778868000-1778878800@www.morrisequestrian.co.uk
SUMMARY:Pony Clear rounds
DESCRIPTION:book equilive
URL:https://www.morrisequestrian.co.uk/event/pony-clear-rounds/
END:VEVENT
BEGIN:VEVENT
DTSTART;VALUE=DATE:20260516
DTEND;VALUE=DATE:20260518
DTSTAMP:20260423T070052
CREATED:20260325T153252Z
LAST-MODIFIED:20260325T153252Z
UID:24464-1778889600-1779062399@www.morrisequestrian.co.uk
SUMMARY:Junior and Club
DESCRIPTION:
URL:https://www.morrisequestrian.co.uk/event/junior-and-club-2/
ATTACH;FMTTYPE=image/png:https://www.morrisequestrian.co.uk/wp-content/uploads/2025/07/Junior-British-Showjumping-3.png
END:VEVENT
BEGIN:VEVENT
DTSTART;VALUE=DATE:20260519
DTEND;VALUE=DATE:20260521
DTSTAMP:20260423T070052
CREATED:20260411T162648Z
LAST-MODIFIED:20260411T162648Z
UID:24488-1779148800-1779321599@www.morrisequestrian.co.uk
SUMMARY:Showjumping Arena Hire
DESCRIPTION:10 am onwards \n£40.00 \nArena must be pre booked on hoptoi \nMax2 horses \nFull course of fences
URL:https://www.morrisequestrian.co.uk/event/showjumping-arena-hire/
CATEGORIES:Arena Hires
END:VEVENT
BEGIN:VEVENT
DTSTART;TZID=Europe/London:20260521T183000
DTEND;TZID=Europe/London:20260521T203000
DTSTAMP:20260423T070052
CREATED:20260411T162955Z
LAST-MODIFIED:20260411T162955Z
UID:24491-1779388200-1779395400@www.morrisequestrian.co.uk
SUMMARY:Daimler Pony Club and Riding school Fun Night
DESCRIPTION:6.30pm onwards \nBook on Hoptoi \nOn horse and off horse \nOpen to all levels \n 
URL:https://www.morrisequestrian.co.uk/event/daimler-pony-club-and-riding-school-fun-night/
END:VEVENT
BEGIN:VEVENT
DTSTART;TZID=Europe/London:20260522T180000
DTEND;TZID=Europe/London:20260522T210000
DTSTAMP:20260423T070052
CREATED:20260414T140703Z
LAST-MODIFIED:20260414T140703Z
UID:24721-1779472800-1779483600@www.morrisequestrian.co.uk
SUMMARY:Clear rounds
DESCRIPTION:book on equilive \n£12.00 per round
URL:https://www.morrisequestrian.co.uk/event/clear-rounds-2/
END:VEVENT
BEGIN:VEVENT
DTSTART;VALUE=DATE:20260523
DTEND;VALUE=DATE:20260525
DTSTAMP:20260423T070052
CREATED:20260411T163454Z
LAST-MODIFIED:20260411T163454Z
UID:24497-1779494400-1779667199@www.morrisequestrian.co.uk
SUMMARY:British Showjumping Direct Just for schools and Junior Show
DESCRIPTION:Please book on Equilive \nDuration stables £45 per stable \nDay stables £25.00 per stable \nOvernight £30.00 per stable \nHook up £40.00  per night \n.
URL:https://www.morrisequestrian.co.uk/event/british-showjumping-direct-just-for-schools-and-junior-show/
CATEGORIES:British Showjumping
END:VEVENT
BEGIN:VEVENT
DTSTART;VALUE=DATE:20260523
DTEND;VALUE=DATE:20260524
DTSTAMP:20260423T070052
CREATED:20260325T153443Z
LAST-MODIFIED:20260325T153443Z
UID:24466-1779494400-1779580799@www.morrisequestrian.co.uk
SUMMARY:Sh!t Riders
DESCRIPTION: SH*T RIDERS CLUB – ANOTHER DAY OF FUN! Back again for more laughs\, learning and confidence building!Whether you wobble\, wobble faster\, or occasionally fall off in style… you’re welcome here! Perfect for nervous riders\, rusty riders\, or anyone just wanting a relaxed\, supportive session. Fun\, friendly coaching No judgement\, no pressure Lots of laughs guaranteed Suitable for all levels – bring your own horse or hire one of ours The Daimler Foundation\, Morris Equestrian Centre\, Kilmarnock Booking on Hopoti enquiries@thedaimlerfoundation.co.uk
URL:https://www.morrisequestrian.co.uk/event/sht-riders/
ATTACH;FMTTYPE=image/jpeg:https://www.morrisequestrian.co.uk/wp-content/uploads/2025/10/562383047_1235153411973519_197147509745987250_n.jpg
END:VEVENT
BEGIN:VEVENT
DTSTART;VALUE=DATE:20260524
DTEND;VALUE=DATE:20260525
DTSTAMP:20260423T070052
CREATED:20260411T163218Z
LAST-MODIFIED:20260411T163218Z
UID:24495-1779580800-1779667199@www.morrisequestrian.co.uk
SUMMARY:Poloon Dressage
DESCRIPTION:Private Hire \n  \nPlease contact Poloon Dressage
URL:https://www.morrisequestrian.co.uk/event/poloon-dressage/
CATEGORIES:Private Hire
END:VEVENT
BEGIN:VEVENT
DTSTART;TZID=Europe/London:20260526T180000
DTEND;TZID=Europe/London:20260526T203000
DTSTAMP:20260423T070052
CREATED:20260411T163654Z
LAST-MODIFIED:20260411T163654Z
UID:24500-1779818400-1779827400@www.morrisequestrian.co.uk
SUMMARY:Daimler Pony Club Rally
DESCRIPTION:Book on  Hoptoi \nSuitable for all \nStable Management \nLessons \nBadge night \n 
URL:https://www.morrisequestrian.co.uk/event/daimler-pony-club-rally/
CATEGORIES:Riding Club
END:VEVENT
BEGIN:VEVENT
DTSTART;TZID=Europe/London:20260527T180000
DTEND;TZID=Europe/London:20260527T220000
DTSTAMP:20260423T070052
CREATED:20260411T164041Z
LAST-MODIFIED:20260411T164041Z
UID:24504-1779904800-1779919200@www.morrisequestrian.co.uk
SUMMARY:Jazzy Jumping
DESCRIPTION:Book on equilive \n6pom onwards \nclass cross poles to 1m \nClass £12.00 per class late fee £2.00
URL:https://www.morrisequestrian.co.uk/event/jazzy-jumping-5/
CATEGORIES:Show Jumping
END:VEVENT
BEGIN:VEVENT
DTSTART;TZID=Europe/London:20260528T180000
DTEND;TZID=Europe/London:20260528T203000
DTSTAMP:20260423T070052
CREATED:20260411T164138Z
LAST-MODIFIED:20260411T164138Z
UID:24506-1779991200-1780000200@www.morrisequestrian.co.uk
SUMMARY:Kaine Dog Training
DESCRIPTION:Private hire
URL:https://www.morrisequestrian.co.uk/event/kaine-dog-training/
CATEGORIES:Private Hire
END:VEVENT
BEGIN:VEVENT
DTSTART;TZID=Europe/London:20260529T110000
DTEND;TZID=Europe/London:20260529T140000
DTSTAMP:20260423T070052
CREATED:20260411T164754Z
LAST-MODIFIED:20260411T164754Z
UID:24513-1780052400-1780063200@www.morrisequestrian.co.uk
SUMMARY:Morning Eventing Clinic
DESCRIPTION:
URL:https://www.morrisequestrian.co.uk/event/morning-eventing-clinic/
END:VEVENT
BEGIN:VEVENT
DTSTART;VALUE=DATE:20260530
DTEND;VALUE=DATE:20260601
DTSTAMP:20260423T070052
CREATED:20260411T163829Z
LAST-MODIFIED:20260414T150523Z
UID:24502-1780099200-1780271999@www.morrisequestrian.co.uk
SUMMARY:Pony Club Showjumping and Sunday Dressage
DESCRIPTION:Private hire \nHorse monkey \n 
URL:https://www.morrisequestrian.co.uk/event/pony-club-area-19-showjumping/
CATEGORIES:Private Hire
END:VEVENT
BEGIN:VEVENT
DTSTART;VALUE=DATE:20260601
DTEND;VALUE=DATE:20260602
DTSTAMP:20260423T070052
CREATED:20260412T121611Z
LAST-MODIFIED:20260412T121611Z
UID:24527-1780272000-1780358399@www.morrisequestrian.co.uk
SUMMARY:Centre Closed
DESCRIPTION:
URL:https://www.morrisequestrian.co.uk/event/centre-closed/
END:VEVENT
BEGIN:VEVENT
DTSTART;VALUE=DATE:20260602
DTEND;VALUE=DATE:20260627
DTSTAMP:20260423T070052
CREATED:20260412T121107Z
LAST-MODIFIED:20260412T121107Z
UID:24519-1780358400-1782518399@www.morrisequestrian.co.uk
SUMMARY:OUTSIDE ARENA Working hunter / arena eventing Arena hire
DESCRIPTION:
URL:https://www.morrisequestrian.co.uk/event/outside-arena-working-hunter-arena-eventing-arena-hire/
CATEGORIES:Arena Hires
END:VEVENT
BEGIN:VEVENT
DTSTART;TZID=Europe/London:20260604T180000
DTEND;TZID=Europe/London:20260604T210000
DTSTAMP:20260423T070052
CREATED:20260412T121321Z
LAST-MODIFIED:20260412T121321Z
UID:24521-1780596000-1780606800@www.morrisequestrian.co.uk
SUMMARY:Daimler Foundation Academy
DESCRIPTION:Flat work Lessons with Scott \nOlivia full course of event Jumps \nChris Full course of shoiwjumps \nBook via Hoptoi \n£35. per lesson \nGroups of 4/5
URL:https://www.morrisequestrian.co.uk/event/daimler-foundation-academy/
CATEGORIES:Training Clinics
END:VEVENT
BEGIN:VEVENT
DTSTART;VALUE=DATE:20260606
DTEND;VALUE=DATE:20260607
DTSTAMP:20260423T070052
CREATED:20260412T121431Z
LAST-MODIFIED:20260412T121431Z
UID:24523-1780704000-1780790399@www.morrisequestrian.co.uk
SUMMARY:Inside and out side Arena Eventing
DESCRIPTION:Booked via Equilive \nInside and out \n 
URL:https://www.morrisequestrian.co.uk/event/inside-and-out-side-arena-eventing/
CATEGORIES:Arena Eventing
END:VEVENT
BEGIN:VEVENT
DTSTART;VALUE=DATE:20260607
DTEND;VALUE=DATE:20260608
DTSTAMP:20260423T070052
CREATED:20260412T121522Z
LAST-MODIFIED:20260412T121522Z
UID:24525-1780790400-1780876799@www.morrisequestrian.co.uk
SUMMARY:British showjumping inside CAT 1
DESCRIPTION:Book via equilive
URL:https://www.morrisequestrian.co.uk/event/british-showjumping-inside-cat-1/
CATEGORIES:British Showjumping
END:VEVENT
BEGIN:VEVENT
DTSTART;VALUE=DATE:20260608
DTEND;VALUE=DATE:20260609
DTSTAMP:20260423T070052
CREATED:20260412T121642Z
LAST-MODIFIED:20260412T121642Z
UID:24529-1780876800-1780963199@www.morrisequestrian.co.uk
SUMMARY:Centre closed
DESCRIPTION:
URL:https://www.morrisequestrian.co.uk/event/centre-closed-2/
END:VEVENT
BEGIN:VEVENT
DTSTART;VALUE=DATE:20260609
DTEND;VALUE=DATE:20260610
DTSTAMP:20260423T070052
CREATED:20260412T121726Z
LAST-MODIFIED:20260412T121726Z
UID:24531-1780963200-1781049599@www.morrisequestrian.co.uk
SUMMARY:Pole Clinic
DESCRIPTION:
URL:https://www.morrisequestrian.co.uk/event/pole-clinic/
CATEGORIES:Training Clinics
END:VEVENT
BEGIN:VEVENT
DTSTART;TZID=Europe/London:20260610T180000
DTEND;TZID=Europe/London:20260610T220000
DTSTAMP:20260423T070052
CREATED:20260412T121809Z
LAST-MODIFIED:20260412T121809Z
UID:24533-1781114400-1781128800@www.morrisequestrian.co.uk
SUMMARY:Jazzy Jumping
DESCRIPTION:
URL:https://www.morrisequestrian.co.uk/event/jazzy-jumping-10/
CATEGORIES:Unaffiliated
END:VEVENT
BEGIN:VEVENT
DTSTART;VALUE=DATE:20260612
DTEND;VALUE=DATE:20260614
DTSTAMP:20260423T070052
CREATED:20260412T121936Z
LAST-MODIFIED:20260412T122100Z
UID:24535-1781222400-1781395199@www.morrisequestrian.co.uk
SUMMARY:Like Minded 2 day Clinic
DESCRIPTION:
URL:https://www.morrisequestrian.co.uk/event/light-minded-2-day-clinic/
CATEGORIES:Training Clinics
END:VEVENT
BEGIN:VEVENT
DTSTART;VALUE=DATE:20260614
DTEND;VALUE=DATE:20260615
DTSTAMP:20260423T070052
CREATED:20260412T122205Z
LAST-MODIFIED:20260412T122205Z
UID:24539-1781395200-1781481599@www.morrisequestrian.co.uk
SUMMARY:Air parks Unaffiated Summer Showjumping
DESCRIPTION:
URL:https://www.morrisequestrian.co.uk/event/air-parks-unaffiated-summer-showjumping/
CATEGORIES:Unaffiliated
END:VEVENT
BEGIN:VEVENT
DTSTART;VALUE=DATE:20260615
DTEND;VALUE=DATE:20260616
DTSTAMP:20260423T070052
CREATED:20260412T122235Z
LAST-MODIFIED:20260412T122235Z
UID:24541-1781481600-1781567999@www.morrisequestrian.co.uk
SUMMARY:Centre Closed
DESCRIPTION:
URL:https://www.morrisequestrian.co.uk/event/centre-closed-3/
END:VEVENT
BEGIN:VEVENT
DTSTART;VALUE=DATE:20260616
DTEND;VALUE=DATE:20260617
DTSTAMP:20260423T070052
CREATED:20260412T122337Z
LAST-MODIFIED:20260412T122337Z
UID:24543-1781568000-1781654399@www.morrisequestrian.co.uk
SUMMARY:Training Tuesday showjumping
DESCRIPTION:
URL:https://www.morrisequestrian.co.uk/event/training-tuesday-showjumping/
CATEGORIES:Training Clinics
END:VEVENT
END:VCALENDAR